BEGIN:VCALENDAR
VERSION:2.0
PRODID:-//HAYBURNER MAGAZINE - ECPv6.15.20//NONSGML v1.0//EN
CALSCALE:GREGORIAN
METHOD:PUBLISH
X-WR-CALNAME:HAYBURNER MAGAZINE
X-ORIGINAL-URL:https://hayburner.co.uk
X-WR-CALDESC:Events for HAYBURNER MAGAZINE
REFRESH-INTERVAL;VALUE=DURATION:PT1H
X-Robots-Tag:noindex
X-PUBLISHED-TTL:PT1H
BEGIN:VTIMEZONE
TZID:Europe/London
BEGIN:DAYLIGHT
TZOFFSETFROM:+0000
TZOFFSETTO:+0100
TZNAME:BST
DTSTART:20210328T010000
END:DAYLIGHT
BEGIN:STANDARD
TZOFFSETFROM:+0100
TZOFFSETTO:+0000
TZNAME:GMT
DTSTART:20211031T010000
END:STANDARD
BEGIN:DAYLIGHT
TZOFFSETFROM:+0000
TZOFFSETTO:+0100
TZNAME:BST
DTSTART:20220327T010000
END:DAYLIGHT
BEGIN:STANDARD
TZOFFSETFROM:+0100
TZOFFSETTO:+0000
TZNAME:GMT
DTSTART:20221030T010000
END:STANDARD
BEGIN:DAYLIGHT
TZOFFSETFROM:+0000
TZOFFSETTO:+0100
TZNAME:BST
DTSTART:20230326T010000
END:DAYLIGHT
BEGIN:STANDARD
TZOFFSETFROM:+0100
TZOFFSETTO:+0000
TZNAME:GMT
DTSTART:20231029T010000
END:STANDARD
BEGIN:DAYLIGHT
TZOFFSETFROM:+0000
TZOFFSETTO:+0100
TZNAME:BST
DTSTART:20240331T010000
END:DAYLIGHT
BEGIN:STANDARD
TZOFFSETFROM:+0100
TZOFFSETTO:+0000
TZNAME:GMT
DTSTART:20241027T010000
END:STANDARD
END:VTIMEZONE
BEGIN:VEVENT
DTSTART;TZID=Europe/London:20230428T000000
DTEND;TZID=Europe/London:20230501T000000
DTSTAMP:20260422T195021
CREATED:20220930T151902Z
LAST-MODIFIED:20220930T151902Z
UID:2984-1682640000-1682899200@hayburner.co.uk
SUMMARY:VW Campout
DESCRIPTION:
URL:https://hayburner.co.uk/event/vw-campout/
LOCATION:Budle Bay\, Northumberland\, United Kingdom
CATEGORIES:50% Aircooled
END:VEVENT
BEGIN:VEVENT
DTSTART;TZID=Europe/London:20230421T000000
DTEND;TZID=Europe/London:20230423T000000
DTSTAMP:20260422T195021
CREATED:20220930T151854Z
LAST-MODIFIED:20220930T151854Z
UID:2980-1682035200-1682208000@hayburner.co.uk
SUMMARY:Alive & Kickin'
DESCRIPTION:
URL:https://hayburner.co.uk/event/alive-kickin/
LOCATION:Haughley Park\, Suffolk\,\, United Kingdom
CATEGORIES:50% Aircooled
END:VEVENT
BEGIN:VEVENT
DTSTART;TZID=Europe/London:20230120T000000
DTEND;TZID=Europe/London:20230122T000000
DTSTAMP:20260422T195021
CREATED:20220930T151811Z
LAST-MODIFIED:20220930T151811Z
UID:2974-1674172800-1674345600@hayburner.co.uk
SUMMARY:January Campout
DESCRIPTION:
URL:https://hayburner.co.uk/event/january-campout/
LOCATION:Tewkesbury\,United Kingdom\, GL20 7EE
CATEGORIES:50% Aircooled
END:VEVENT
BEGIN:VEVENT
DTSTART;VALUE=DATE:20220909
DTEND;VALUE=DATE:20220912
DTSTAMP:20260422T195021
CREATED:20220908T114954Z
LAST-MODIFIED:20220908T123208Z
UID:2374-1662681600-1662940799@hayburner.co.uk
SUMMARY:Busfest
DESCRIPTION:
URL:https://hayburner.co.uk/event/busfest/
LOCATION:Malvern Showground\, United Kingdom
CATEGORIES:50% Aircooled
END:VEVENT
END:VCALENDAR